BEGIN:VCALENDAR
VERSION:2.0
PRODID:-//Artemis - ECPv6.15.20//NONSGML v1.0//EN
CALSCALE:GREGORIAN
METHOD:PUBLISH
X-WR-CALNAME:Artemis
X-ORIGINAL-URL:https://artemis.nwf.org
X-WR-CALDESC:Events for Artemis
REFRESH-INTERVAL;VALUE=DURATION:PT1H
X-Robots-Tag:noindex
X-PUBLISHED-TTL:PT1H
BEGIN:VTIMEZONE
TZID:Asia/Karachi
BEGIN:STANDARD
TZOFFSETFROM:+0500
TZOFFSETTO:+0500
TZNAME:PKT
DTSTART:20200101T000000
END:STANDARD
END:VTIMEZONE
BEGIN:VEVENT
DTSTART;VALUE=DATE:20210616
DTEND;VALUE=DATE:20210619
DTSTAMP:20260424T180502
CREATED:20230217T060457Z
LAST-MODIFIED:20230306T173648Z
UID:2293-1623801600-1624060799@artemis.nwf.org
SUMMARY:Women's Fish Camp
DESCRIPTION:Join Artemis Sportswomen for a weekend of camping and fishing in the Sawtooths! We will be staying near the Salmon River with great access for fly fishing and spin fishing. All levels of experience are encouraged to join!
URL:https://artemis.nwf.org/event/womens-fish-camp/
ATTACH;FMTTYPE=image/png:https://artemis.nwf.org/wp-content/uploads/2023/02/Artemis-Camping-July-17-2021-2.png
END:VEVENT
END:VCALENDAR